BEGIN:VCALENDAR
VERSION:2.0
PRODID:-//Wise Device Inc - ECPv6.15.18//NONSGML v1.0//EN
CALSCALE:GREGORIAN
METHOD:PUBLISH
X-ORIGINAL-URL:https://wdidevice.com
X-WR-CALDESC:Events for Wise Device Inc
REFRESH-INTERVAL;VALUE=DURATION:PT1H
X-Robots-Tag:noindex
X-PUBLISHED-TTL:PT1H
BEGIN:VTIMEZONE
TZID:UTC
BEGIN:STANDARD
TZOFFSETFROM:+0000
TZOFFSETTO:+0000
TZNAME:UTC
DTSTART:20170101T000000
END:STANDARD
END:VTIMEZONE
BEGIN:VEVENT
DTSTART;TZID=UTC:20261006T080000
DTEND;TZID=UTC:20261010T170000
DTSTAMP:20260422T115546
CREATED:20250710T175709Z
LAST-MODIFIED:20260107T164058Z
UID:3905-1791273600-1791651600@wdidevice.com
SUMMARY:Vision Stuttgart - October 6 to October 8 2026
DESCRIPTION:Discover Advanced Microscopy Automation Solutions with WDI at VISION Stuttgart 2026\n \n  \nExplore cutting-edge microscopy automation\, precision autofocus\, and optomechanical imaging solutions with WDI – Wise Device at VISION Stuttgart 2026\, the world’s leading trade fair for machine vision. From semiconductor inspection to life sciences and industrial imaging\, WDI delivers scalable\, cost-efficient technologies engineered for performance and reliability. \nWhy Choose WDI – Wise Device? \n\nHigh-Precision Autofocus & Motion Control\nIndustry-proven autofocus sensors and automated modules delivering nanometer-scale precision for demanding imaging applications.\nModular\, OEM-Ready Solutions\nFlexible\, configurable systems designed for seamless integration into custom machine vision and microscopy platforms—reducing development time and cost.\nOptimized for Performance & ROI\nEngineered to improve throughput\, imaging stability\, and system longevity while minimizing redesigns and long-term operational expenses.\nExpert Engineering Support\nBacked by decades of experience in optical engineering\, automation\, and custom system design for industrial and scientific markets.\n\nMeet WDI at VISION Stuttgart 2026 \n📅 Date: October 6 – October 8\, 2026\n📍 Location: Stuttgart\, Germany\n🛑 Booth: 10b71 \nVisit our booth to see live demonstrations of WDI’s precision autofocus systems\, automated microscopy modules\, and machine vision components. Speak directly with our experts about custom-engineered solutions\, OEM integration\, and how our technologies align with evolving industry standards and application requirements.
URL:https://wdidevice.com/event/vision-stuttgart-october-6-to-october-10-2026/
LOCATION:Leinfelden-Echterdingen\, Leinfelden-Echterdingen\, Germany
END:VEVENT
BEGIN:VEVENT
DTSTART;TZID=UTC:20250526T000000
DTEND;TZID=UTC:20250526T000000
DTSTAMP:20260422T115546
CREATED:20250526T132828Z
LAST-MODIFIED:20260108T142732Z
UID:3800-1748217600-1748217600@wdidevice.com
SUMMARY:WDI Dealer Summit – May 20th to May 23rd
DESCRIPTION:WDI Dealer Summit\n \n\nAs part of our 20th Anniversary\, WDI proudly hosted its first-ever Global Dealer Summit\, bringing together valued partners from China\, Taiwan\, Japan\, Korea\, Malaysia\, and Israel at our headquarters in Richmond Hill. \nOver three days\, attendees participated in in-depth technical training on our new PFA-LN sensor and new iZAA/iLLC Modular Microscopy Systems\, along with presentations highlighting a range of advanced technologies\, including our confocal imaging solutions. The summit also provided a dedicated forum for strategic business discussions\, knowledge sharing\, and collaboration—strengthening partnerships and aligning on future growth and innovation. \nThe week concluded with a memorable visit to Niagara Falls and the Niagara Wine Region\, offering our global partners the opportunity to connect outside the office and experience one of Canada’s most iconic destinations. \nWDI would like to extend a sincere thank you to all our partners who joined us and helped make this inaugural Global Dealer Summit a resounding success. We look forward to building on this momentum as we continue to innovate and grow together. \n 
URL:https://wdidevice.com/event/global-dealer-summit-microscopy-automation/
LOCATION:richmond hill\, Richmond Hill\, Canada
END:VEVENT
BEGIN:VEVENT
DTSTART;TZID=UTC:20231017T080000
DTEND;TZID=UTC:20231017T095300
DTSTAMP:20260422T115546
CREATED:20231017T095205Z
LAST-MODIFIED:20260304T141105Z
UID:3322-1697529600-1697536380@wdidevice.com
SUMMARY:SPIE Photonics West 2024 – 27 January – 1 Febuary
DESCRIPTION:Discover Advanced Microscopy Automation Solutions with WDI at SPIE Photonics West 2024\n \n  \nWDI was very happy to return to the SPIE Photonics West Exhibition in San Francisco.  In our new booth we will showcase 3 systems including our Bright Field/Dark Field and new Fluorescence modular microscopes.  We would like to welcome all our customers and partners to visit us and make the show a great success.
URL:https://wdidevice.com/event/spie-photonics-west-2024-27-january-1-febuary/
LOCATION:San Francisco\, Canada
END:VEVENT
BEGIN:VEVENT
DTSTART;TZID=UTC:20210329T080000
DTEND;TZID=UTC:20210329T170000
DTSTAMP:20260422T115546
CREATED:20210329T111220Z
LAST-MODIFIED:20260304T145637Z
UID:3338-1617004800-1617037200@wdidevice.com
SUMMARY:Visit WDI at Vision Stuttgart for New PFA Technology
DESCRIPTION:Discover Advanced Microscopy Automation Solutions with WDI at VISION Stuttgart 2021\n \n  \nWDI is excited to announce we will be attending VISION in Stuttgart\, Germany October 5 to 7\, 2021. VISION – the World’s leading trade fair for machine vision – provides an overview of all important trends\, suppliers and innovations. Around 500 exhibitors from all over the world will be present. Key players in the industry as well as smaller but highly specialized companies are represented with their latest products.  We are located at booth number 10H55 and look forward to seeing you there. \n \nMesse Stuttgart\nStuttgart\, Germany\n5 – 7 October 2021                                                   Booth 10H55
URL:https://wdidevice.com/event/visit-wdi-at-vision-suttgart-and-see-our-new-pfa-technology/
LOCATION:Stuttgart\, Stuttgart\, Germany
END:VEVENT
BEGIN:VEVENT
DTSTART;TZID=UTC:20190916T080000
DTEND;TZID=UTC:20190916T170000
DTSTAMP:20260422T115546
CREATED:20190916T122717Z
LAST-MODIFIED:20251203T203606Z
UID:3347-1568620800-1568653200@wdidevice.com
SUMMARY:Visit WDI at Photonics West and See Our New PFA Technology
DESCRIPTION:WDI is excited to announce we will be attending SPIE in San Francisco\, California. SPIE Photonics West is the world’s largest photonics technologies event for the leading laser industries in the world. The event takes place from February 1st to 6th 2020\, and will showcase world-class exhibitions and provide you access to cutting-edge research. Please join WDI and see our new PFA autofocus technology. We are located at booth number 4457 and look forward to seeing you there. \n \nThe Moscone Center\nSan Francisco\, California United States\n1 – 6  February 2020                                                  Booth 4457
URL:https://wdidevice.com/event/visit-wdi-at-photonics-west-and-see-our-new-pfa-technology/
END:VEVENT
BEGIN:VEVENT
DTSTART;TZID=UTC:20190125T080000
DTEND;TZID=UTC:20190125T170000
DTSTAMP:20260422T115546
CREATED:20190125T123951Z
LAST-MODIFIED:20251203T205811Z
UID:3354-1548403200-1548435600@wdidevice.com
SUMMARY:WDI is Excited to Announce We Will be Attending SPIE Photonics West
DESCRIPTION:WDI Device is excited to announce our participation in the SPIE Photonics West 2018 symposium in San Francisco\, California. The annual conference & exhibition was held at The Moscone Center\, from January 30th to February 1st\, 2018. Every year thousands of scientists\, engineers\, and executives gather to attend the world’s largest event for photonics and biomedical optics. The exhibitions covered all major technical topics including: biophotonics\, biomedical optics\, imaging & display\, sensor and camera systems\, optoelectronics\, photonic materials & devices\, and industrial lasers. The presentations \n\n\n\nThe exhibitors showcased their cutting-edge equipment that have contributed and shaped today’s consumer products. WDI displayed our leading line of high-quality cameras and sensors. Our featured product was the Modular Microscope with Hybrid Stepper/Piezo Z Axis Actuator. Our product was a hot topic and drew a large crowd with positive feedback. Thank you to everyone who came out and stay tuned for future events!
URL:https://wdidevice.com/event/wdi-is-excited-to-announce-we-will-be-attending-spie-photonics-west/
END:VEVENT
BEGIN:VEVENT
DTSTART;TZID=UTC:20180613T080000
DTEND;TZID=UTC:20180613T170000
DTSTAMP:20260422T115546
CREATED:20180613T123129Z
LAST-MODIFIED:20251203T210028Z
UID:3349-1528876800-1528909200@wdidevice.com
SUMMARY:WDI is Excited to Announce We Will be Attending Vision in Stuttgart
DESCRIPTION:WDI is excited to announce we will be attending Vision\, World’s leading trade fair for machine vision in Stuttgart November 2018 . The trade show will be running from Nov 6th – Nov 8th 2018. \nPlease Visit us at  Stand #1J83 \n \n 
URL:https://wdidevice.com/event/wdi-is-excited-to-announce-we-will-be-attending-vision-in-stuttgart/
END:VEVENT
BEGIN:VEVENT
DTSTART;TZID=UTC:20240201T000000
DTEND;TZID=UTC:20240201T000000
DTSTAMP:20260422T115546
CREATED:20240201T162404Z
LAST-MODIFIED:20260304T140751Z
UID:1396-1706745600-1706745600@wdidevice.com
SUMMARY:Laser World of Photonics 2025 – June 24-27
DESCRIPTION:Discover Advanced Microscopy Automation Solutions with WDI at Laser World of Photonics 2025\n \nWDI is very happy to return to the Laser World of Photonics Exhibition in Munich Germany this June.  We will be showcasing our NEW PFA-LN sensor and NEW iZAA/iLLC Modular Microscopy Systems as well as our Dark Field and Fluorescence solutions.  We invite you to visit us at Booth B2-440.
URL:https://wdidevice.com/event/laser-world-of-photonics-2025-june-24-27/
LOCATION:Munich\, trade fair center messe munchen\, Munich\, Germany
END:VEVENT
BEGIN:VEVENT
DTSTART;TZID=UTC:20240201T080000
DTEND;TZID=UTC:20240201T080000
DTSTAMP:20260422T115546
CREATED:20240201T162411Z
LAST-MODIFIED:20260304T140229Z
UID:1397-1706774400-1706774400@wdidevice.com
SUMMARY:SPIE Photonics West 2025 – January 28th- 30th
DESCRIPTION:Discover Advanced Microscopy Automation Solutions with WDI at SPIE Photonics West\n \nJanuary 28th – 30th\, 2025 San Francisco\, California\, United States WDI was very happy to return to the SPIE Photonics West Exhibition in San Francisco. In our new booth we showcased 3 systems including our Bright Field/Dark Field and Fluorescence modular microscope and NEW PFA-LN sensor. We would like to thank all our customers and partners who visited us and made the show a success.
URL:https://wdidevice.com/event/spie-photonics-west-2025-january-28th-30th/
LOCATION:San Francisco\, Canada
END:VEVENT
BEGIN:VEVENT
DTSTART;TZID=UTC:20231018T080000
DTEND;TZID=UTC:20231018T170000
DTSTAMP:20260422T115546
CREATED:20231018T160517Z
LAST-MODIFIED:20260107T170316Z
UID:1372-1697616000-1697648400@wdidevice.com
SUMMARY:Achieving Higher Imaging Throughput with Synchronized Autofocus and Motion Control Webinar
DESCRIPTION:Achieving Higher Imaging Throughput with Synchronized Autofocus and Motion Control Webinar\nUnlocking Precision in Life Science Microscopy: Key Insights from WDI’s Autofocus Webinar \nWDI recently hosted an in-depth session exploring the latest in autofocus technology for life science microscopy. Researchers and imaging specialists gained practical insights into overcoming common challenges and optimizing imaging workflows. \nHighlights from the session included: \n✅ Autofocus approaches for life science microscopy – Understanding the variety of methods available and how to choose the right solution for your samples.✅ Challenges with multi-well plates and flowcells – Strategies for maintaining consistent focus across complex sample formats.✅ Tips for fast\, accurate focus – Ensuring speed and precision without compromising image quality.✅ Optimizing Z-stacking and XY motion – Techniques for efficient 3D imaging and smooth stage movement.✅ Simple autofocus and motion integration using the Dover Motion DOF-5 Z Stage – Best practices for combining hardware and software to streamline microscopy workflows. \nThe session emphasized practical solutions for improving imaging efficiency\, minimizing errors\, and achieving reliable results in high-throughput and advanced microscopy applications. \n \nJoin us for our joint webinar with Dover Motion introducing the PFA-DT line and Dover Motion DOF-5 solution: \n\n\nDate: Oct 26\, 2023 | 4:00 pm – 4:45 pm Eastern Time \n\n\nCo-hosted by: Dig Thomas\, Sr. Systems Engineer\, Dover Motion & Kevin Tuck\, Application Engineer\, WDI Wise Device Inc. \n\n\nFor life science labs looking to elevate their imaging capabilities\, WDI’s expert insights provide a roadmap for precision\, speed\, and seamless automation with the support of advanced Z-stage technology like the Dover Motion DOF-5. \n 
URL:https://wdidevice.com/event/synchronized-autofocus-and-motion-control-webinar/
LOCATION:San Francisco\, Canada
END:VEVENT
BEGIN:VEVENT
DTSTART;TZID=UTC:20230106T080000
DTEND;TZID=UTC:20230106T170000
DTSTAMP:20260422T115546
CREATED:20230106T102141Z
LAST-MODIFIED:20251203T201654Z
UID:3329-1672992000-1673024400@wdidevice.com
SUMMARY:SPIE Photonics West 2023
DESCRIPTION:After 3 years of not attending due to Covid\, WDI was very happy to return to the SPIE Photonics West Exhibition in San Francisco.  In our new booth we showcased 3 systems including our Bright Field/Dark Field and new Fluorescence modular microscopes.  We would like to thank all customers and partners who visited us and made the show a great success.
URL:https://wdidevice.com/event/exhibition-in-san-francisco-spie-photonics-west-2023/
END:VEVENT
BEGIN:VEVENT
DTSTART;TZID=UTC:20220114T080000
DTEND;TZID=UTC:20220114T170000
DTSTAMP:20260422T115546
CREATED:20220114T110455Z
LAST-MODIFIED:20251203T201232Z
UID:3335-1642147200-1642179600@wdidevice.com
SUMMARY:CANCELED (SPIE Photonics West 2022)
DESCRIPTION:Dear Vendors/Dealers/Suppliers; WDI Wise Device Inc. has made the difficult decision this year to not attend SPIE Photonics West 2022. Due to the growing concern of Covid-19 in the past weeks\, we have made the decision for the better safety of our staff \, suppliers\, dealers and vendors that we will postpone our attendance. We hope to see you at the show in 2023\, and as always please stay safe! \n-WDI Team
URL:https://wdidevice.com/event/canceled-spie-photonics-west-2022/
END:VEVENT
BEGIN:VEVENT
DTSTART;TZID=UTC:20220420T080000
DTEND;TZID=UTC:20220420T170000
DTSTAMP:20260422T115546
CREATED:20220420T102641Z
LAST-MODIFIED:20260304T141621Z
UID:3332-1650441600-1650474000@wdidevice.com
SUMMARY:WDI Wise Device Inc. to Attend Photonics West 2023
DESCRIPTION:Discover Advanced Microscopy Automation Solutions with WDI at SPIE Photonics West 2023\n \n  \n \nMark your calendar: 28 January-2 February 2023 \nJoin WDI Wise Device Inc. in San Francisco for SPIE Photonics West 2023. We are looking forward to seeing everyone next year.
URL:https://wdidevice.com/event/wdi-wise-device-inc-to-attend-photonics-west-2023/
LOCATION:San Francisco\, Canada
END:VEVENT
BEGIN:VEVENT
DTSTART;TZID=UTC:20180613T080000
DTEND;TZID=UTC:20180613T170000
DTSTAMP:20260422T115546
CREATED:20180613T123720Z
LAST-MODIFIED:20251203T205206Z
UID:3352-1528876800-1528909200@wdidevice.com
SUMMARY:WDI is Excited to Announce We Will be Attending SEMICON Europa in Munich
DESCRIPTION:WDI is excited to announce we will be attending SEMICON Europa\, The Largest European Electronics Platform in Munich Germany November 2018. The trade show will be running from Nov 13th – Nov 16th\, 2018. \nPlease come visit us at booth number #A4414 \n 
URL:https://wdidevice.com/event/wdi-attending-semicon-europa-munich/
END:VEVENT
END:VCALENDAR